BEGIN:VCALENDAR
VERSION:2.0
PRODID:-//ChamberMaster//Event Calendar 2.0//EN
METHOD:PUBLISH
X-PUBLISHED-TTL:P3D
REFRESH-INTERVAL:P3D
CALSCALE:GREGORIAN
BEGIN:VEVENT
DTSTART:20151203T033000Z
DTEND:20151202T080000Z
X-MICROSOFT-CDO-ALLDAYEVENT:FALSE
SUMMARY:BIG BAD VOODOO DADDY
DESCRIPTION:BIG BAD VOODOO DADDY\nHOLIDAY PARTY!\n\nGallo Center audiences just love Big Bad Voodoo Daddy\, and they really love this wild and swingin' holiday party show! You'll want to be there as these lovable hipsters turn yuletide classics like “Blue Christmas\,” “Jingle Bells” and “We Three Kings” into a rollicking big band extravaganza! Throw in a few songs of their own\, like “Zat You Santa Claus” and “Rock-A-Billy Christmas\,” and you've got a show cool enough to keep a snowman from melting! Now celebrating 22 years since arriving on the music scene\, BBVD has a new album release\, “Rattle Them Bones.”\nContact :	Gallo Center\nPhone :	209-338-2100\nEmail :	\nWeb Site :	galloarts.org
X-ALT-DESC;FMTTYPE=text/html:BIG BAD VOODOO DADDY\nHOLIDAY PARTY!\n\nGallo Center audiences just love Big Bad Voodoo Daddy\, and they really love this wild and swingin' holiday party show! You'll want to be there as these lovable hipsters turn yuletide classics like “Blue Christmas\,” “Jingle Bells” and “We Three Kings” into a rollicking big band extravaganza! Throw in a few songs of their own\, like “Zat You Santa Claus” and “Rock-A-Billy Christmas\,” and you've got a show cool enough to keep a snowman from melting! Now celebrating 22 years since arriving on the music scene\, BBVD has a new album release\, “Rattle Them Bones.”\nContact :	Gallo Center\nPhone :	209-338-2100\nEmail :	\nWeb Site :	galloarts.org
LOCATION:Gallo Center 1000 I St Modesto\, CA 95354
UID:e.2695.1279
SEQUENCE:3
DTSTAMP:20260419T190648Z
URL:https://business.modchamber.org/events/details/big-bad-voodoo-daddy-12-02-2015-1279
END:VEVENT

END:VCALENDAR
