BEGIN:VCALENDAR
VERSION:2.0
PRODID:-//ChamberMaster//Event Calendar 2.0//EN
METHOD:PUBLISH
X-PUBLISHED-TTL:P3D
REFRESH-INTERVAL:P3D
CALSCALE:GREGORIAN
BEGIN:VEVENT
DTSTART;VALUE=DATE:20150702
DTEND;VALUE=DATE:20150709
TRANSP:TRANSPARENT
X-MICROSOFT-CDO-ALLDAYEVENT:TRUE
SUMMARY:Big 4th of July Savings Event
DESCRIPTION:
X-ALT-DESC;FMTTYPE=text/html:
LOCATION:Sears 1800 Prescott Rd Ste J Modesto\, CA 95350
UID:e.2695.1154
SEQUENCE:3
DTSTAMP:20260420T020228Z
URL:https://business.modchamber.org/events/details/big-4th-of-july-savings-event-07-02-2015-1154
END:VEVENT

END:VCALENDAR
