BEGIN:VCALENDAR
VERSION:2.0
PRODID:-//ChamberMaster//Event Calendar 2.0//EN
METHOD:PUBLISH
X-PUBLISHED-TTL:P3D
REFRESH-INTERVAL:P3D
CALSCALE:GREGORIAN
BEGIN:VEVENT
DTSTART:20150418T150000Z
DTEND:20150418T220000Z
X-MICROSOFT-CDO-ALLDAYEVENT:FALSE
SUMMARY:Beyer Benefit Day
DESCRIPTION:All proceeds directly benefit the hard working students of the Beyer High School Band & Color Guard as they work top complete each season!\n\nFly by dinner will be served starting around either 11am or noon.\n\nRummage Sale: 8:00am - 3:00pm\n\nCar Wash 8:00am - 3:00pm\n\nCrafter/ Vendor Marketplace 8:00am - 3:00pm\nContact : 	\nPhone : 	209-604-9434
X-ALT-DESC;FMTTYPE=text/html:	All proceeds directly benefit the hard working students of the Beyer High School Band & Color Guard as they work top complete each season!\n\nFly by dinner will be served starting around either 11am or noon.\n\nRummage Sale: 8:00am - 3:00pm\n\nCar Wash 8:00am - 3:00pm\n\nCrafter/ Vendor Marketplace 8:00am - 3:00pm\nContact : 	\nPhone : 	209-604-9434
LOCATION:Beyer High School Main Parking Lot 1717 Sylvan Ave Modesto\, CA 95355
UID:e.2695.881
SEQUENCE:3
DTSTAMP:20260420T062747Z
URL:https://business.modchamber.org/events/details/beyer-benefit-day-04-18-2015-881
END:VEVENT

END:VCALENDAR
