BEGIN:VCALENDAR
VERSION:2.0
PRODID:-//ChamberMaster//Event Calendar 2.0//EN
METHOD:PUBLISH
X-PUBLISHED-TTL:P3D
REFRESH-INTERVAL:P3D
CALSCALE:GREGORIAN
BEGIN:VEVENT
DTSTART:20160424T150000Z
DTEND:20160424T190000Z
X-MICROSOFT-CDO-ALLDAYEVENT:FALSE
SUMMARY:Bel Passi Baseball Annual Pancake Breakfast
DESCRIPTION:Pancakes all you can eat for $7.00\nContact :	\nPhone :	\nEmail :	\nWeb Site :	www.belpassibaseball.com
X-ALT-DESC;FMTTYPE=text/html:Pancakes all you can eat for $7.00\nContact :	\nPhone :	\nEmail :	\nWeb Site :	www.belpassibaseball.com\n
LOCATION:Masonic Center 800 Rose Ave Modesto\, CA 95355
UID:e.2695.1548
SEQUENCE:3
DTSTAMP:20260419T141042Z
URL:https://business.modchamber.org/events/details/bel-passi-baseball-annual-pancake-breakfast-04-24-2016-1548
END:VEVENT

END:VCALENDAR
