BEGIN:VCALENDAR
VERSION:2.0
PRODID:-//ChamberMaster//Event Calendar 2.0//EN
METHOD:PUBLISH
X-PUBLISHED-TTL:P3D
REFRESH-INTERVAL:P3D
CALSCALE:GREGORIAN
BEGIN:VEVENT
DTSTART:20160410T023000Z
DTEND:20160409T070000Z
X-MICROSOFT-CDO-ALLDAYEVENT:FALSE
SUMMARY:BEATLES CONCERT EXPERIENCE
DESCRIPTION:Cruisin Oldies Concerts and MANIA \nPresents \nCome Together: The Beatles Concert Experience \n\nNever before has there been a tribute to the Fab Four quite like 'Come Together: The Beatles Concert Experience.'\n\nIn this live musical performance \, 'Come Together' recreates the look\, sound and history of the Beatles\, taking you back into time to witness the Beatles phenomenal rise to pop stardom.\n\nThrough authentic costumes\, superbly intricate live performances and soaring vocal harmonies\, 'Come Together' takes audiences on a musical journey from the early years of the Beatles's British Invasion through their legendary 60's and 70's recordings with highlights of the Sgt. Pepper era\, as well as their solo careers. There is even a special salute to John Lennon! \n\nAll your favorite Beatles songs are here\, including "She Loves You" "All My Lovin" and "I Want To Hold Your Hand" "I Saw Her Standing There" and many more. Over thirty five Beatles hits are included in this exciting touring stage show\, performed in historic detail by the world's most celebrated and authentic Beatles tribute artists in a spectacular new show that has dazzled audiences worldwide. \n\nExperience The Beatles.\nContact :	Gallo Center\nPhone :	209-338-2100\nEmail :	\nWeb Site :	galloarts.org
X-ALT-DESC;FMTTYPE=text/html:	Cruisin Oldies Concerts and MANIA \nPresents \nCome Together: The Beatles Concert Experience \n\nNever before has there been a tribute to the Fab Four quite like 'Come Together: The Beatles Concert Experience.'\n\nIn this live musical performance \, 'Come Together' recreates the look\, sound and history of the Beatles\, taking you back into time to witness the Beatles phenomenal rise to pop stardom.\n\nThrough authentic costumes\, superbly intricate live performances and soaring vocal harmonies\, 'Come Together' takes audiences on a musical journey from the early years of the Beatles's British Invasion through their legendary 60's and 70's recordings with highlights of the Sgt. Pepper era\, as well as their solo careers. There is even a special salute to John Lennon! \n\nAll your favorite Beatles songs are here\, including "She Loves You" "All My Lovin" and "I Want To Hold Your Hand" "I Saw Her Standing There" and many more. Over thirty five Beatles hits are included in this exciting touring stage show\, performed in historic detail by the world's most celebrated and authentic Beatles tribute artists in a spectacular new show that has dazzled audiences worldwide. \n\nExperience The Beatles.\nContact :	Gallo Center\nPhone :	209-338-2100\nEmail :	\nWeb Site :	galloarts.org
LOCATION:Gallo Center 1000 I Street Modesto\, CA 95354
UID:e.2695.1477
SEQUENCE:3
DTSTAMP:20260419T152519Z
URL:https://business.modchamber.org/events/details/beatles-concert-experience-04-09-2016-1477
END:VEVENT

END:VCALENDAR
