BEGIN:VCALENDAR
VERSION:2.0
PRODID:-//ChamberMaster//Event Calendar 2.0//EN
METHOD:PUBLISH
X-PUBLISHED-TTL:P3D
REFRESH-INTERVAL:P3D
CALSCALE:GREGORIAN
BEGIN:VEVENT
DTSTART:20160409T160000Z
DTEND:20160409T070000Z
X-MICROSOFT-CDO-ALLDAYEVENT:FALSE
SUMMARY:Bark for Life of Modesto-American Cancer Society
DESCRIPTION:The American Cancer Society Bark For Life is a Relay for Life fundraising event that honors the care-giving qualities of canine companions.Every dollar we raise helps the American Cancer Society fight cancer through research\, education\, advocacy and patient services.\n\nBark For Life - dogs and people working together to END Cancer!\n\nFollowing the walk\, there’ll be music\, food/treats (for pooches and their humans)\, games\, canine contests (best costume\, cutest trick\, largest/smallest dog\, etc.)\, Sheriff’s K-9 Unit demonstration\, free samples\, grooming\, adoption information\, rescue groups and a whole lot more!!\nRegistration fee: $20 per dog ($10 for each additional dog). Each registered pooch will receive a Bark For Life bandana and may participate in games and competition. All dogs must be on a leash. \nFor questions\, contact Nancy Breshears at (209) 614-2585 or email nnn52@yahoo.com\nContact :	Nancy Breshears\nPhone :	209-614-2585\nEmail :	\nWeb Site :
X-ALT-DESC;FMTTYPE=text/html:The American Cancer Society Bark For Life is a Relay for Life fundraising event that honors the care-giving qualities of canine companions.Every dollar we raise helps the American Cancer Society fight cancer through research\, education\, advocacy and patient services.\n\nBark For Life - dogs and people working together to END Cancer!\n\nFollowing the walk\, there’ll be music\, food/treats (for pooches and their humans)\, games\, canine contests (best costume\, cutest trick\, largest/smallest dog\, etc.)\, Sheriff’s K-9 Unit demonstration\, free samples\, grooming\, adoption information\, rescue groups and a whole lot more!!\nRegistration fee: $20 per dog ($10 for each additional dog). Each registered pooch will receive a Bark For Life bandana and may participate in games and competition. All dogs must be on a leash. \nFor questions\, contact Nancy Breshears at (209) 614-2585 or email nnn52@yahoo.com\nContact :	Nancy Breshears\nPhone :	209-614-2585\nEmail :	\nWeb Site :	
LOCATION:PetSmart 2204 McHenry Ave Modesto\, CA 95350
UID:e.2695.1547
SEQUENCE:3
DTSTAMP:20260419T141527Z
URL:https://business.modchamber.org/events/details/bark-for-life-of-modesto-american-cancer-society-04-09-2016-1547
END:VEVENT

END:VCALENDAR
