BEGIN:VCALENDAR
VERSION:2.0
PRODID:-//ChamberMaster//Event Calendar 2.0//EN
METHOD:PUBLISH
X-PUBLISHED-TTL:P3D
REFRESH-INTERVAL:P3D
CALSCALE:GREGORIAN
BEGIN:VEVENT
DTSTART:20150411T160000Z
DTEND:20150411T070000Z
X-MICROSOFT-CDO-ALLDAYEVENT:FALSE
SUMMARY:Bark for Life of Modesto
DESCRIPTION:The American Cancer Society Bark For Life is a Relay for Life fundraising event that honors the care-giving qualities of canine companions.Every dollar we raise helps the American Cancer Society fight cancer through research\, education\, advocacy and patient services.\n\nBark For Life - dogs and people working together to END Cancer!\nContact : 	American Cancer Society\nPhone : 	(800) 227-2345
X-ALT-DESC;FMTTYPE=text/html:	The American Cancer Society Bark For Life is a Relay for Life fundraising event that honors the care-giving qualities of canine companions.Every dollar we raise helps the American Cancer Society fight cancer through research\, education\, advocacy and patient services.\n\nBark For Life - dogs and people working together to END Cancer!\nContact : 	American Cancer Society\nPhone : 	(800) 227-2345
LOCATION:PetSmarts 2204 McHenry Ave Modesto\, CA 95350
UID:e.2695.857
SEQUENCE:3
DTSTAMP:20260420T074056Z
URL:https://business.modchamber.org/events/details/bark-for-life-of-modesto-04-11-2015-857
END:VEVENT

END:VCALENDAR
