BEGIN:VCALENDAR
VERSION:2.0
PRODID:-//ChamberMaster//Event Calendar 2.0//EN
METHOD:PUBLISH
X-PUBLISHED-TTL:P3D
REFRESH-INTERVAL:P3D
CALSCALE:GREGORIAN
BEGIN:VEVENT
DTSTART:20151015T023000Z
DTEND:20151014T070000Z
X-MICROSOFT-CDO-ALLDAYEVENT:FALSE
SUMMARY:BALLET FOLKLORICO
DESCRIPTION:Founded in 1952 by the revered Amalia Hernández\, Ballet Folklórico de México is quite simply the most honored ballet folklórico troupe in the world. The company has received more than 200 awards and has appeared in more than 5\,000 performances. The music\, dance and costumes of Mexican folklore\, combined with the talent of their artists\, have resulted in icon status in Mexico and well-deserved international acclaim.\nContact :	Gallo Center\nPhone :	209-338-2100\nEmail :	\nWeb Site :
X-ALT-DESC;FMTTYPE=text/html:Founded in 1952 by the revered Amalia Hernández\, Ballet Folklórico de México is quite simply the most honored ballet folklórico troupe in the world. The company has received more than 200 awards and has appeared in more than 5\,000 performances. The music\, dance and costumes of Mexican folklore\, combined with the talent of their artists\, have resulted in icon status in Mexico and well-deserved international acclaim.\nContact :	Gallo Center\nPhone :	209-338-2100\nEmail :	\nWeb Site :	
LOCATION:Gallo Center 1000 I St Modesto\, CA 95354
UID:e.2695.1224
SEQUENCE:3
DTSTAMP:20260419T214422Z
URL:https://business.modchamber.org/events/details/ballet-folklorico-10-14-2015-1224
END:VEVENT

END:VCALENDAR
