BEGIN:VCALENDAR
VERSION:2.0
PRODID:-//ChamberMaster//Event Calendar 2.0//EN
METHOD:PUBLISH
X-PUBLISHED-TTL:P3D
REFRESH-INTERVAL:P3D
CALSCALE:GREGORIAN
BEGIN:VEVENT
DTSTART:20121116T013000Z
DTEND:20121116T033000Z
X-MICROSOFT-CDO-ALLDAYEVENT:FALSE
SUMMARY:BAH November 2012
DESCRIPTION:
X-ALT-DESC;FMTTYPE=text/html:
LOCATION:Flying Turtle
UID:e.2695.213
SEQUENCE:3
DTSTAMP:20260424T094406Z
URL:https://business.modchamber.org/events/details/bah-november-2012-11-15-2012-213
END:VEVENT

END:VCALENDAR
