BEGIN:VCALENDAR
VERSION:2.0
PRODID:-//ChamberMaster//Event Calendar 2.0//EN
METHOD:PUBLISH
X-PUBLISHED-TTL:P3D
REFRESH-INTERVAL:P3D
CALSCALE:GREGORIAN
BEGIN:VEVENT
DTSTART:20111118T013000Z
DTEND:20111118T033000Z
X-MICROSOFT-CDO-ALLDAYEVENT:FALSE
SUMMARY:BAH November 2011
DESCRIPTION:
X-ALT-DESC;FMTTYPE=text/html:
LOCATION:Flying Turtle
UID:e.2695.179
SEQUENCE:3
DTSTAMP:20260425T024136Z
URL:https://business.modchamber.org/events/details/bah-november-2011-11-17-2011-179
END:VEVENT

END:VCALENDAR
