BEGIN:VCALENDAR
VERSION:2.0
PRODID:-//ChamberMaster//Event Calendar 2.0//EN
METHOD:PUBLISH
X-PUBLISHED-TTL:P3D
REFRESH-INTERVAL:P3D
CALSCALE:GREGORIAN
BEGIN:VEVENT
DTSTART:20110520T003000Z
DTEND:20110520T023000Z
X-MICROSOFT-CDO-ALLDAYEVENT:FALSE
SUMMARY:BAH May 2011
DESCRIPTION:
X-ALT-DESC;FMTTYPE=text/html:
LOCATION:Flying Turtle
UID:e.2695.184
SEQUENCE:3
DTSTAMP:20260420T073525Z
URL:https://business.modchamber.org/events/details/bah-may-2011-05-19-2011-184
END:VEVENT

END:VCALENDAR
