BEGIN:VCALENDAR
VERSION:2.0
PRODID:-//ChamberMaster//Event Calendar 2.0//EN
METHOD:PUBLISH
X-PUBLISHED-TTL:P3D
REFRESH-INTERVAL:P3D
CALSCALE:GREGORIAN
BEGIN:VEVENT
DTSTART:20120720T003000Z
DTEND:20120720T023000Z
X-MICROSOFT-CDO-ALLDAYEVENT:FALSE
SUMMARY:BAH July 2012
DESCRIPTION:
X-ALT-DESC;FMTTYPE=text/html:
LOCATION:Flying Turtle
UID:e.2695.210
SEQUENCE:3
DTSTAMP:20260424T151138Z
URL:https://business.modchamber.org/events/details/bah-july-2012-07-19-2012-210
END:VEVENT

END:VCALENDAR
