BEGIN:VCALENDAR
VERSION:2.0
PRODID:-//ChamberMaster//Event Calendar 2.0//EN
METHOD:PUBLISH
X-PUBLISHED-TTL:P3D
REFRESH-INTERVAL:P3D
CALSCALE:GREGORIAN
BEGIN:VEVENT
DTSTART:20110218T013000Z
DTEND:20110218T033000Z
X-MICROSOFT-CDO-ALLDAYEVENT:FALSE
SUMMARY:BAH February 2011
DESCRIPTION:
X-ALT-DESC;FMTTYPE=text/html:
LOCATION:Flying Turtle
UID:e.2695.165
SEQUENCE:3
DTSTAMP:20260421T042523Z
URL:https://business.modchamber.org/events/details/bah-february-2011-02-17-2011-165
END:VEVENT

END:VCALENDAR
