BEGIN:VCALENDAR
VERSION:2.0
PRODID:-//ChamberMaster//Event Calendar 2.0//EN
METHOD:PUBLISH
X-PUBLISHED-TTL:P3D
REFRESH-INTERVAL:P3D
CALSCALE:GREGORIAN
BEGIN:VEVENT
DTSTART:20150515T000000Z
DTEND:20150515T030000Z
X-MICROSOFT-CDO-ALLDAYEVENT:FALSE
SUMMARY:Backups\, Brews & Barbeque - Free Event
DESCRIPTION:Flooding. Fires. Equipment failure. Theft. What would you do if your company’s emails\, billing records\, customer files\, payroll and tax information suddenly disappeared?\n\nIf you’re unsure\, it’s timeto create a backup and disaster preparedness plan that pushes your data offsite and out to the cloud.\n\nJoin us as we discuss backup options and the simple\, yet necessary steps to protect your business.\n\nEnjoy bbq foods\, drinks and live music. This event is free\, but registration is required.
X-ALT-DESC;FMTTYPE=text/html:Flooding. Fires. Equipment failure. Theft. What would you do if your company’s emails\, billing records\, customer files\, payroll and tax information suddenly disappeared?\n\nIf you’re unsure\, it’s timeto create a backup and disaster preparedness plan that pushes your data offsite and out to the cloud.\n\nJoin us as we discuss backup options and the simple\, yet necessary steps to protect your business.\n\nEnjoy bbq foods\, drinks and live music. This event is free\, but registration is required.
LOCATION:Do Good Distillery 3173 Del Este Modesto\, CA 95354
UID:e.2695.1082
SEQUENCE:3
DTSTAMP:20260420T045539Z
URL:https://business.modchamber.org/events/details/backups-brews-barbeque-free-event-05-14-2015-1082
END:VEVENT

END:VCALENDAR
