BEGIN:VCALENDAR
VERSION:2.0
PRODID:-//ChamberMaster//Event Calendar 2.0//EN
METHOD:PUBLISH
X-PUBLISHED-TTL:P3D
REFRESH-INTERVAL:P3D
CALSCALE:GREGORIAN
BEGIN:VEVENT
DTSTART:20150515T000000Z
DTEND:20150514T070000Z
X-MICROSOFT-CDO-ALLDAYEVENT:FALSE
SUMMARY:Backups Brews Barbeque
DESCRIPTION:
X-ALT-DESC;FMTTYPE=text/html:
LOCATION:Do Good Distillery 3173 Del Este Modesto\, CA 95354
UID:e.2695.958
SEQUENCE:3
DTSTAMP:20260420T045323Z
URL:https://business.modchamber.org/events/details/backups-brews-barbeque-05-14-2015-958
END:VEVENT

END:VCALENDAR
