BEGIN:VCALENDAR
VERSION:2.0
PRODID:-//ChamberMaster//Event Calendar 2.0//EN
METHOD:PUBLISH
X-PUBLISHED-TTL:P3D
REFRESH-INTERVAL:P3D
CALSCALE:GREGORIAN
BEGIN:VEVENT
DTSTART:20150620T030000Z
DTEND:20150619T070000Z
X-MICROSOFT-CDO-ALLDAYEVENT:FALSE
SUMMARY:Back to Graffiti at the Fruit Yard
DESCRIPTION:Join us for the kick off of our Annual Back to Graffiti weekend with Mesquite BBQ and live music from the band Threshold as the classic cars start to arrive. Live music starts at 8pm and is free to the public.\nContact :	The Fruit Yard\nPhone :	209-577-3093\nEmail :	\nWeb Site :
X-ALT-DESC;FMTTYPE=text/html:Join us for the kick off of our Annual Back to Graffiti weekend with Mesquite BBQ and live music from the band Threshold as the classic cars start to arrive. Live music starts at 8pm and is free to the public.\nContact :	The Fruit Yard\nPhone :	209-577-3093\nEmail :	\nWeb Site :	
LOCATION:The Fruit Yard 7948 Yosemite Blvd Modesto\, CA 95355
UID:e.2695.1003
SEQUENCE:3
DTSTAMP:20260420T032546Z
URL:https://business.modchamber.org/events/details/back-to-graffiti-at-the-fruit-yard-06-19-2015-1003
END:VEVENT

END:VCALENDAR
