BEGIN:VCALENDAR
VERSION:2.0
PRODID:-//ChamberMaster//Event Calendar 2.0//EN
METHOD:PUBLISH
X-PUBLISHED-TTL:P3D
REFRESH-INTERVAL:P3D
CALSCALE:GREGORIAN
BEGIN:VEVENT
DTSTART:20160326T020000Z
DTEND:20160325T070000Z
X-MICROSOFT-CDO-ALLDAYEVENT:FALSE
SUMMARY:B93’s Spring Fling: DAUGHTRY & DAYA
DESCRIPTION:B93’s Spring Fling: A Benefit For Camp Jack Hazard\n\nB93 is proud to celebrate our continued partnership with Jack and Buena Foundation in 2016 with another fantastic line up for B93’s Spring Fling: A benefit for Camp Jack Hazard\, March 25th at the Gallo Center for the Arts.\nFor more than 90 years\, at a place where granite masses and thick conifer forests preside on the mountain face\, Camp Jack Hazard has provided fun\, safe adventures for campers age 6 to 17 in the heart of the Sierra Nevada Mountains.\n\nCamp Jack Hazard fosters personal growth through challenging and exhilarating programs and activities. It will change your summer. It may change your life. This is why Hazard Matters!\n\nThis year’s lineup features Daughtry\, with special guest Daya. Opening the night’s performance is the Valley’s own Josh Rosenblum.\n\nIn the course of only five years\, Chris Daughtry\, a finalist on the fifth season of American Idol \, has had more than his share of career highlights. The singer\, songwriter\, and musician from North Carolina has released back-to-back No. 1 albums: the 4x-platinum DAUGHTRY (which became the fastest-selling rock debut in Soundscan history) and 2009’s platinum Leave This Town. DAUGHTRY has scored four No. 1 Top 40 hits (“It’s Not Over\, “Home\,” “Feels Like Tonight\,” and “No Surprise”)\, earned four Grammy Award nominations (including “Best Rock Album” for DAUGHTRY)\, won four American Music Awards\, and brought their electrifying live show to all corners of the world. A greatest hits album\, It's Not Over...The Hits So Far\, was released in February 12\, 2016\, with singles from their studio albums and two new songs. On January 29\, 2016\, "Torches" was released as the lead single.\n\nDaya [pronunciation “dey-uh”] drives pop music down a different path. This Certified Platinum Artist has been smashing the charts with her debut song “Hide Away”. Perhaps it’s a result of her classical piano training\, the fact that her multi-ethnicity has been the catalyst for family visits across the globe\, or her natural cleverness that’s as striking as her dynamic vocal range. It could just be due to the fact that this 16 year old singer and songwriter has always known what she wanted to do.\n\nSinger-songwriter Josh Rosenblum hails from Modesto\, CA. Josh has been playing music all over the state for almost 10 years\, both solo and accompanied by his band\, 'Josh Rosenblum Band'. Josh and his band have received multiple awards for their songwriting and musicianship\, including winning the 'Next Big Thing' tour in San Francisco\, the first 'Valley's Got Talent' band category\, and two Modesto Area Music Awards for 'Best Pop/Rock' in 2012 and 2015. Josh recently completed and released a full length album with his band that is currently available through his website\, but will soon be available in every online market\; iTunes\, Spotify\, Amazon\, Rhapsody\, etc.\nContact : 	Gallo Center\nPhone : 	209-338-2100\nEmail : 	\nWeb Site : 	galloarts.org
X-ALT-DESC;FMTTYPE=text/html:B93’s Spring Fling: A Benefit For Camp Jack Hazard\n\nB93 is proud to celebrate our continued partnership with Jack and Buena Foundation in 2016 with another fantastic line up for B93’s Spring Fling: A benefit for Camp Jack Hazard\, March 25th at the Gallo Center for the Arts.\nFor more than 90 years\, at a place where granite masses and thick conifer forests preside on the mountain face\, Camp Jack Hazard has provided fun\, safe adventures for campers age 6 to 17 in the heart of the Sierra Nevada Mountains.\n\nCamp Jack Hazard fosters personal growth through challenging and exhilarating programs and activities. It will change your summer. It may change your life. This is why Hazard Matters!\n\nThis year’s lineup features Daughtry\, with special guest Daya. Opening the night’s performance is the Valley’s own Josh Rosenblum.\n\nIn the course of only five years\, Chris Daughtry\, a finalist on the fifth season of American Idol \, has had more than his share of career highlights. The singer\, songwriter\, and musician from North Carolina has released back-to-back No. 1 albums: the 4x-platinum DAUGHTRY (which became the fastest-selling rock debut in Soundscan history) and 2009’s platinum Leave This Town. DAUGHTRY has scored four No. 1 Top 40 hits (“It’s Not Over\, “Home\,” “Feels Like Tonight\,” and “No Surprise”)\, earned four Grammy Award nominations (including “Best Rock Album” for DAUGHTRY)\, won four American Music Awards\, and brought their electrifying live show to all corners of the world. A greatest hits album\, It's Not Over...The Hits So Far\, was released in February 12\, 2016\, with singles from their studio albums and two new songs. On January 29\, 2016\, "Torches" was released as the lead single.\n\nDaya [pronunciation “dey-uh”] drives pop music down a different path. This Certified Platinum Artist has been smashing the charts with her debut song “Hide Away”. Perhaps it’s a result of her classical piano training\, the fact that her multi-ethnicity has been the catalyst for family visits across the globe\, or her natural cleverness that’s as striking as her dynamic vocal range. It could just be due to the fact that this 16 year old singer and songwriter has always known what she wanted to do.\n\nSinger-songwriter Josh Rosenblum hails from Modesto\, CA. Josh has been playing music all over the state for almost 10 years\, both solo and accompanied by his band\, 'Josh Rosenblum Band'. Josh and his band have received multiple awards for their songwriting and musicianship\, including winning the 'Next Big Thing' tour in San Francisco\, the first 'Valley's Got Talent' band category\, and two Modesto Area Music Awards for 'Best Pop/Rock' in 2012 and 2015. Josh recently completed and released a full length album with his band that is currently available through his website\, but will soon be available in every online market\; iTunes\, Spotify\, Amazon\, Rhapsody\, etc.\nContact : 	Gallo Center\nPhone : 	209-338-2100\nEmail : 	\nWeb Site : 	galloarts.org\n\n
LOCATION:Gallo Center 1000 I Street Modesto\, CA 95354
UID:e.2695.1600
SEQUENCE:3
DTSTAMP:20260419T154411Z
URL:https://business.modchamber.org/events/details/b93-s-spring-fling-daughtry-daya-03-25-2016-1600
END:VEVENT

END:VCALENDAR
