BEGIN:VCALENDAR
VERSION:2.0
PRODID:-//ChamberMaster//Event Calendar 2.0//EN
METHOD:PUBLISH
X-PUBLISHED-TTL:P3D
REFRESH-INTERVAL:P3D
CALSCALE:GREGORIAN
BEGIN:VEVENT
DTSTART:20150425T180000Z
DTEND:20150426T070000Z
X-MICROSOFT-CDO-ALLDAYEVENT:FALSE
SUMMARY:Artists Open Studios
DESCRIPTION:Stanislaus County’s 4th Annual Open Artist Studio will be Saturday\, April 25 and Sunday\, April 26\, Tour Maps/Passports are available at Convention Visitors Bureau's\, galleries\, and numerous locations throughout the County. It’s an opportunity to talk with\, view the work of\, or buy from 53 artists at Studios throughout the County. Passports\, deposited in their final artist studio box will be eligible in a drawing for an original work of art.\nContact : 	\nPhone : 	209-222-8687\nEmail : 	\nWeb Site : 	www.stanislausaos.wordpress.com
X-ALT-DESC;FMTTYPE=text/html:	Stanislaus County’s 4th Annual Open Artist Studio will be Saturday\, April 25 and Sunday\, April 26\, Tour Maps/Passports are available at Convention Visitors Bureau's\, galleries\, and numerous locations throughout the County. It’s an opportunity to talk with\, view the work of\, or buy from 53 artists at Studios throughout the County. Passports\, deposited in their final artist studio box will be eligible in a drawing for an original work of art.\nContact : 	\nPhone : 	209-222-8687\nEmail : 	\nWeb Site : 	www.stanislausaos.wordpress.com
LOCATION:Varios Locations - Throughout the County
UID:e.2695.890
SEQUENCE:3
DTSTAMP:20260420T061207Z
URL:https://business.modchamber.org/events/details/artists-open-studios-04-25-2015-890
END:VEVENT

END:VCALENDAR
