BEGIN:VCALENDAR
VERSION:2.0
PRODID:-//ChamberMaster//Event Calendar 2.0//EN
METHOD:PUBLISH
X-PUBLISHED-TTL:P3D
REFRESH-INTERVAL:P3D
CALSCALE:GREGORIAN
BEGIN:VEVENT
DTSTART:20160423T180000Z
DTEND:20160425T000000Z
X-MICROSOFT-CDO-ALLDAYEVENT:FALSE
SUMMARY:Artists Open Studios
DESCRIPTION:Stanislaus County’s 6th Annual Open Artist Studio will be Saturday\, April 23 and Sunday\, April 24\, Tour Maps/Passports are available at Convention Visitors Bureau's\, galleries\, and numerous locations throughout the County. It’s an opportunity to talk with\, view the work of\, or buy from 53 artists at Studios throughout the County. Passports\, deposited in their final artist studio box will be eligible in a drawing for an original work of art.\nContact :	\nPhone :	209-222-8687\nEmail :	\nWeb Site :	www.stanislausaos.wordpress.com
X-ALT-DESC;FMTTYPE=text/html:Stanislaus County’s 6th Annual Open Artist Studio will be Saturday\, April 23 and Sunday\, April 24\, Tour Maps/Passports are available at Convention Visitors Bureau's\, galleries\, and numerous locations throughout the County. It’s an opportunity to talk with\, view the work of\, or buy from 53 artists at Studios throughout the County. Passports\, deposited in their final artist studio box will be eligible in a drawing for an original work of art.\nContact :	\nPhone :	209-222-8687\nEmail :	\nWeb Site :	www.stanislausaos.wordpress.com
LOCATION:Various Locations- Throughout the County
UID:e.2695.1488
SEQUENCE:3
DTSTAMP:20260419T140710Z
URL:https://business.modchamber.org/events/details/artists-open-studios-04-23-2016-1488
END:VEVENT

END:VCALENDAR
