BEGIN:VCALENDAR
VERSION:2.0
PRODID:-//ChamberMaster//Event Calendar 2.0//EN
METHOD:PUBLISH
X-PUBLISHED-TTL:P3D
REFRESH-INTERVAL:P3D
CALSCALE:GREGORIAN
BEGIN:VEVENT
DTSTART:20140118T150000Z
DTEND:20140118T170000Z
X-MICROSOFT-CDO-ALLDAYEVENT:FALSE
SUMMARY:Applebee's Breakfast
DESCRIPTION:3900 Sisk rd\, Modesto\n$10.00\nEggs\,bacon\,pancakes\,coffee\,milk\,OJ
X-ALT-DESC;FMTTYPE=text/html:3900 Sisk rd\, Modesto\n$10.00\nEggs\,bacon\,pancakes\,coffee\,milk\,OJ
LOCATION:
UID:e.2695.364
SEQUENCE:3
DTSTAMP:20260423T060322Z
URL:https://business.modchamber.org/events/details/applebee-s-breakfast-01-18-2014-364
END:VEVENT

END:VCALENDAR
