BEGIN:VCALENDAR
VERSION:2.0
PRODID:-//ChamberMaster//Event Calendar 2.0//EN
METHOD:PUBLISH
X-PUBLISHED-TTL:P3D
REFRESH-INTERVAL:P3D
CALSCALE:GREGORIAN
BEGIN:VEVENT
DTSTART:20150627T013000Z
DTEND:20150626T070000Z
X-MICROSOFT-CDO-ALLDAYEVENT:FALSE
SUMMARY:Applause
DESCRIPTION:5678 Dance Studio presents their 21st Annual Dance Recital\, "Applause". Bring your Applause to these amazing dancers for all their hard work and training. Dancers ages 1 to 70 will dance in styles of ballet\, tap\, jazz\, contemporary and hip hop. This is a show you wont want to miss!!!
X-ALT-DESC;FMTTYPE=text/html:5678 Dance Studio presents their 21st Annual Dance Recital\, "Applause". Bring your Applause to these amazing dancers for all their hard work and training. Dancers ages 1 to 70 will dance in styles of ballet\, tap\, jazz\, contemporary and hip hop. This is a show you wont want to miss!!!\n
LOCATION:Gallo Center 1000 I St Modesto\, CA 95354
UID:e.2695.1121
SEQUENCE:3
DTSTAMP:20260420T031511Z
URL:https://business.modchamber.org/events/details/applause-06-26-2015-1121
END:VEVENT

END:VCALENDAR
