BEGIN:VCALENDAR
VERSION:2.0
PRODID:-//ChamberMaster//Event Calendar 2.0//EN
METHOD:PUBLISH
X-PUBLISHED-TTL:P3D
REFRESH-INTERVAL:P3D
CALSCALE:GREGORIAN
BEGIN:VEVENT
DTSTART:20150802T010000Z
DTEND:20150801T070000Z
X-MICROSOFT-CDO-ALLDAYEVENT:FALSE
SUMMARY:Annual Ronald Reagan Dinner
DESCRIPTION:Guest Speaker: Dinesh D'Souza\nWriter\, Executive Producer and Co-Director of "2016 Obama's America" and "America:Imagine the world without her"\n\ngrand raffle prizes\n\n$40.00 Member\n$50.00 Non-Member\nContact :	Modesto Republican Women Federated\nPhone :	(209) 567-3399
X-ALT-DESC;FMTTYPE=text/html:Guest Speaker: Dinesh D'Souza\nWriter\, Executive Producer and Co-Director of "2016 Obama's America" and "America:Imagine the world without her"\n\ngrand raffle prizes\n\n$40.00 Member\n$50.00 Non-Member\nContact :	Modesto Republican Women Federated\nPhone :	(209) 567-3399
LOCATION:Seasons Event Center 945 Mchenry Ave Modesto\, CA 95350
UID:e.2695.1159
SEQUENCE:3
DTSTAMP:20260420T002852Z
URL:https://business.modchamber.org/events/details/annual-ronald-reagan-dinner-08-01-2015-1159
END:VEVENT

END:VCALENDAR
