BEGIN:VCALENDAR
VERSION:2.0
PRODID:-//ChamberMaster//Event Calendar 2.0//EN
METHOD:PUBLISH
X-PUBLISHED-TTL:P3D
REFRESH-INTERVAL:P3D
CALSCALE:GREGORIAN
BEGIN:VEVENT
DTSTART:20150912T140000Z
DTEND:20150912T070000Z
X-MICROSOFT-CDO-ALLDAYEVENT:FALSE
SUMMARY:Annual Peace Officer Memorial Run
DESCRIPTION:Area law enforcement will join together with community members to run the Peace Officer Memorial Group's 4th Annual Half Marathon Foot Pursuit! This will include a fun run for kids and a 5K for those who prefer their races a little shorter! There will also be bands on hand\, vendor booths and Police demonstrations!\nContact :	\nPhone :	\nEmail :	\nWeb Site :	www.peaceofficermemorialrun.com
X-ALT-DESC;FMTTYPE=text/html:Area law enforcement will join together with community members to run the Peace Officer Memorial Group's 4th Annual Half Marathon Foot Pursuit! This will include a fun run for kids and a 5K for those who prefer their races a little shorter! There will also be bands on hand\, vendor booths and Police demonstrations!\nContact :	\nPhone :	\nEmail :	\nWeb Site :	www.peaceofficermemorialrun.com
LOCATION:Gallo Center 1000 I St Modesto\, CA 95354
UID:e.2695.1068
SEQUENCE:3
DTSTAMP:20260420T003221Z
URL:https://business.modchamber.org/events/details/annual-peace-officer-memorial-run-09-12-2015-1068
END:VEVENT

END:VCALENDAR
