BEGIN:VCALENDAR
VERSION:2.0
PRODID:-//ChamberMaster//Event Calendar 2.0//EN
METHOD:PUBLISH
X-PUBLISHED-TTL:P3D
REFRESH-INTERVAL:P3D
CALSCALE:GREGORIAN
BEGIN:VEVENT
DTSTART:20160124T020000Z
DTEND:20160124T060000Z
X-MICROSOFT-CDO-ALLDAYEVENT:FALSE
SUMMARY:Annual Gala - Member Choice Awards 2016
DESCRIPTION:-SAVE THE DATE- The Annual Awards Gala is steeped in rich tradition and history. The awards we present are given with input from our members to our members. The evening will also recognize outstanding businesses and individuals who are a positive influence in the greater Modesto area through our Member Choice Awards. We have set the stage for you to take a culinary tour of the best of the best Modesto has to offer while you sip fine wines\, beer and special Martini?s. The evening features top shelf entertainment\, a live band\, video presentations and much more. This black-tie optional event is a night to be remember and the talk of the town for months to come.
X-ALT-DESC;FMTTYPE=text/html:<P><EM><FONT color=#ff0000 size=5>-SAVE THE DATE- </FONT></EM></P><P>The Annual Awards Gala is steeped in rich tradition and history. The awards we present are given with input from our members to our members. The evening will also recognize outstanding businesses and individuals who are a positive influence in the greater Modesto area through our Member Choice Awards. We have set the stage for you to take a culinary tour of the best of the best Modesto has to offer while you sip fine wines\, beer and special Martini?s. The evening features top shelf entertainment\, a live band\, video presentations and much more. This black-tie optional event is a night to be remember and the talk of the town for months to come.</P>
LOCATION:Gallo Center for the Arts 1000 I Street Modesto\, CA 95354
UID:e.2695.1314
SEQUENCE:3
DTSTAMP:20260419T174940Z
URL:https://business.modchamber.org/events/details/annual-gala-member-choice-awards-2016-01-23-2016-1314
END:VEVENT

END:VCALENDAR
