BEGIN:VCALENDAR
VERSION:2.0
PRODID:-//ChamberMaster//Event Calendar 2.0//EN
METHOD:PUBLISH
X-PUBLISHED-TTL:P3D
REFRESH-INTERVAL:P3D
CALSCALE:GREGORIAN
BEGIN:VEVENT
DTSTART:20150424T003000Z
DTEND:20150423T070000Z
X-MICROSOFT-CDO-ALLDAYEVENT:FALSE
SUMMARY:Annual ''Fun'' Raiser
DESCRIPTION:5:30 Food\, Wine\, Drawings 7:00 Film - "High Society"\n\nDonation $25.00\n\nBenefits the Education Foundation of Stanislaus County\, Children's Books at the local Library\, CSUS and MJC Scholarships\n\nContact : 	State Theatre\nPhone : 	BOX OFFICE (209) 527-4697\nEmail : 	\nWeb Site : 	thestate.org
X-ALT-DESC;FMTTYPE=text/html:	5:30 Food\, Wine\, Drawings 7:00 Film - "High Society"\n\nDonation $25.00\n\nBenefits the Education Foundation of Stanislaus County\, Children's Books at the local Library\, CSUS and MJC Scholarships\n\nContact : 	State Theatre\nPhone : 	BOX OFFICE (209) 527-4697\nEmail : 	\nWeb Site : 	thestate.org
LOCATION:State Theatre 1307 J St Modesto\, CA 95354
UID:e.2695.885
SEQUENCE:3
DTSTAMP:20260420T062615Z
URL:https://business.modchamber.org/events/details/annual-fun-raiser-04-23-2015-885
END:VEVENT

END:VCALENDAR
