BEGIN:VCALENDAR
VERSION:2.0
PRODID:-//ChamberMaster//Event Calendar 2.0//EN
METHOD:PUBLISH
X-PUBLISHED-TTL:P3D
REFRESH-INTERVAL:P3D
CALSCALE:GREGORIAN
BEGIN:VEVENT
DTSTART;VALUE=DATE:20150620
DTEND;VALUE=DATE:20150622
TRANSP:TRANSPARENT
X-MICROSOFT-CDO-ALLDAYEVENT:TRUE
SUMMARY:Annual Coin\, Stamp & Collectibles Expo
DESCRIPTION:Come Join the Stanislaus County Coin Club for their annual Coin\, Stamp & Collectible Show! Sat. June 20 10:00am - 5:00pm & Sun. June 21 10:00am - 4:00pm. RAFFLE with gold and silver prize\, Hourly door prize to keep the coin enthusiasts shopping & activities to keep our hobby growing. Admission is Free.\nContact :	\nPhone :	209-492-9028\nEmail :	\nWeb Site :
X-ALT-DESC;FMTTYPE=text/html:Come Join the Stanislaus County Coin Club for their annual Coin\, Stamp & Collectible Show! Sat. June 20 10:00am - 5:00pm & Sun. June 21 10:00am - 4:00pm. RAFFLE with gold and silver prize\, Hourly door prize to keep the coin enthusiasts shopping & activities to keep our hobby growing. Admission is Free.\nContact :	\nPhone :	209-492-9028\nEmail :	\nWeb Site :	
LOCATION:Centre Plaza 1000 L St Modesto\, CA 95354
UID:e.2695.1006
SEQUENCE:3
DTSTAMP:20260420T032150Z
URL:https://business.modchamber.org/events/details/annual-coin-stamp-collectibles-expo-06-20-2015-1006
END:VEVENT

END:VCALENDAR
