BEGIN:VCALENDAR
VERSION:2.0
PRODID:-//ChamberMaster//Event Calendar 2.0//EN
METHOD:PUBLISH
X-PUBLISHED-TTL:P3D
REFRESH-INTERVAL:P3D
CALSCALE:GREGORIAN
BEGIN:VEVENT
DTSTART:20151007T020000Z
DTEND:20151007T070000Z
X-MICROSOFT-CDO-ALLDAYEVENT:FALSE
SUMMARY:Annie the Play
DESCRIPTION:Leapin' Lizards!! The world's best-loved musical returns in time-honored form. Directed by original lyricist and director Martin Charnin and Choreographed by Liza Gennaro\, this production of "Annie" will be a brand new incarnation of the iconic original. Featuring book and score by Tony-Award Winners Thomas Meehan\, Charles Strouse and Martin Charnin\, "Annie" includes such unforgettable songs as "It's the Hard Knock Life\," "Easy Street\," " i Don't Need Anything But You\," plus the eternal anthem of optimism\, "Tomorrow." Raves the New York Post: Overflowing! Big\, warm-hearted and funny!\nContact :	Gallo Center\nPhone :	209-338-3102\nEmail :	\nWeb Site :	galloarts.org
X-ALT-DESC;FMTTYPE=text/html:	Leapin' Lizards!! The world's best-loved musical returns in time-honored form. Directed by original lyricist and director Martin Charnin and Choreographed by Liza Gennaro\, this production of "Annie" will be a brand new incarnation of the iconic original. Featuring book and score by Tony-Award Winners Thomas Meehan\, Charles Strouse and Martin Charnin\, "Annie" includes such unforgettable songs as "It's the Hard Knock Life\," "Easy Street\," " i Don't Need Anything But You\," plus the eternal anthem of optimism\, "Tomorrow." Raves the New York Post: Overflowing! Big\, warm-hearted and funny!\nContact :	Gallo Center\nPhone :	209-338-3102\nEmail :	\nWeb Site :	galloarts.org
LOCATION:Gallo Center 1000 I St Modesto\, CA 95354
UID:e.2695.1168
SEQUENCE:3
DTSTAMP:20260419T214409Z
URL:https://business.modchamber.org/events/details/annie-the-play-10-06-2015-1168
END:VEVENT

END:VCALENDAR
