BEGIN:VCALENDAR
VERSION:2.0
PRODID:-//ChamberMaster//Event Calendar 2.0//EN
METHOD:PUBLISH
X-PUBLISHED-TTL:P3D
REFRESH-INTERVAL:P3D
CALSCALE:GREGORIAN
BEGIN:VEVENT
DTSTART:20160117T040000Z
DTEND:20160116T080000Z
X-MICROSOFT-CDO-ALLDAYEVENT:FALSE
SUMMARY:ANITA RENFROE
DESCRIPTION:Christian comedian and author Anita Renfroe became an overnight Internet sensation on a YouTube video. She sang everything a mother says to her children in a single day\, to the tune of “The William Tell Overture\,” in under three minutes. With her unique brand of estrogen flavored musical comedy and blend of sass\, edge and slightly offbeat takes on All Things Female\, Anita just says what everyone is thinking\, but won't say out loud. The Gallo Center rocked with laughter when she was here in 2013.\nContact :	Gallo Center\nPhone :	209-338-2100\nEmail :	\nWeb Site :	galloarts.org
X-ALT-DESC;FMTTYPE=text/html:Christian comedian and author Anita Renfroe became an overnight Internet sensation on a YouTube video. She sang everything a mother says to her children in a single day\, to the tune of “The William Tell Overture\,” in under three minutes. With her unique brand of estrogen flavored musical comedy and blend of sass\, edge and slightly offbeat takes on All Things Female\, Anita just says what everyone is thinking\, but won't say out loud. The Gallo Center rocked with laughter when she was here in 2013.\nContact :	Gallo Center\nPhone :	209-338-2100\nEmail :	\nWeb Site :	galloarts.org
LOCATION:Gallo Center 1000 I St Modesto\, CA 95354
UID:e.2695.1340
SEQUENCE:3
DTSTAMP:20260419T174642Z
URL:https://business.modchamber.org/events/details/anita-renfroe-01-16-2016-1340
END:VEVENT

END:VCALENDAR
