BEGIN:VCALENDAR
VERSION:2.0
PRODID:-//ChamberMaster//Event Calendar 2.0//EN
METHOD:PUBLISH
X-PUBLISHED-TTL:P3D
REFRESH-INTERVAL:P3D
CALSCALE:GREGORIAN
BEGIN:VEVENT
DTSTART:20150412T030000Z
DTEND:20150411T070000Z
X-MICROSOFT-CDO-ALLDAYEVENT:FALSE
SUMMARY:Anejelah Johnson
DESCRIPTION:Comedienne and San Jose native Anjelah Johnson first performed at the Gallo Center in October 2012\, a sold out clean comedy show that delighted fans and newcomers alike. A former Oakland Raiderette cheerleader\, she became an internet sensation with her viral video “Nail Salon\,” which led to many stand up and performance opportunities. That led to Johnson joining the cast of “MADtv” as a series regular\, which spawned yet another internet sensation\, “Bon Qui Qui.” This original character\, a disgruntled fast food employee with no filter\, has been enjoyed\, viewed and replicated by over 55 million people worldwide.\nContact : 	Gallo Center\nPhone : 	209-338-2100\nEmail : 	\nWeb Site : 	galloarts.org
X-ALT-DESC;FMTTYPE=text/html:	Comedienne and San Jose native Anjelah Johnson first performed at the Gallo Center in October 2012\, a sold out clean comedy show that delighted fans and newcomers alike. A former Oakland Raiderette cheerleader\, she became an internet sensation with her viral video “Nail Salon\,” which led to many stand up and performance opportunities. That led to Johnson joining the cast of “MADtv” as a series regular\, which spawned yet another internet sensation\, “Bon Qui Qui.” This original character\, a disgruntled fast food employee with no filter\, has been enjoyed\, viewed and replicated by over 55 million people worldwide.\nContact : 	Gallo Center\nPhone : 	209-338-2100\nEmail : 	\nWeb Site : 	galloarts.org
LOCATION:Gallo Center 1000 I St Modesto\, CA 95354
UID:e.2695.856
SEQUENCE:3
DTSTAMP:20260420T062616Z
URL:https://business.modchamber.org/events/details/anejelah-johnson-04-11-2015-856
END:VEVENT

END:VCALENDAR
