BEGIN:VCALENDAR
VERSION:2.0
PRODID:-//ChamberMaster//Event Calendar 2.0//EN
METHOD:PUBLISH
X-PUBLISHED-TTL:P3D
REFRESH-INTERVAL:P3D
CALSCALE:GREGORIAN
BEGIN:VEVENT
DTSTART:20151023T023000Z
DTEND:20151022T070000Z
X-MICROSOFT-CDO-ALLDAYEVENT:FALSE
SUMMARY:AN EVENING WITH ROB LOWE
DESCRIPTION:THE FAMED ACTOR ON HIS LIFE\, HIS WORK & HIS CAUSE\n\nRob Lowe is well known for his lead roles in television series like “The West Wing” and “Parks and Recreation\,” and films including “Wayne’s World” and “Killing Kennedy\,” but the 50-year-old star has spent more than three decades working in the entertainment industry—and he has the stories to prove it! In this special presentation\, Lowe shares delightful anecdotes about his successes\, disappointments\, relationships and one-of-a-kind encounters with people who shaped our world. \n\nNever mean-spirited or salacious\, Lowe's stories\, many of which he wrote about in his 2011 memoir\, “Stories I Only Tell My Friends\,” are sure to be as entertaining as they are unforgettable. Lowe will also discuss a cause near and dear to his heart\, support for cancer survivors through organizations such as the Cancer Hope Network—an issue that has profoundly affected his family. \nContact :	Gallo Center\nPhone :	209-338-2100\nEmail :	\nWeb Site :	galloarts.org
X-ALT-DESC;FMTTYPE=text/html:THE FAMED ACTOR ON HIS LIFE\, HIS WORK & HIS CAUSE\n\nRob Lowe is well known for his lead roles in television series like “The West Wing” and “Parks and Recreation\,” and films including “Wayne’s World” and “Killing Kennedy\,” but the 50-year-old star has spent more than three decades working in the entertainment industry—and he has the stories to prove it! In this special presentation\, Lowe shares delightful anecdotes about his successes\, disappointments\, relationships and one-of-a-kind encounters with people who shaped our world. \n\nNever mean-spirited or salacious\, Lowe's stories\, many of which he wrote about in his 2011 memoir\, “Stories I Only Tell My Friends\,” are sure to be as entertaining as they are unforgettable. Lowe will also discuss a cause near and dear to his heart\, support for cancer survivors through organizations such as the Cancer Hope Network—an issue that has profoundly affected his family. \nContact :	Gallo Center\nPhone :	209-338-2100\nEmail :	\nWeb Site :	galloarts.org
LOCATION:Gallo Center 1000 I St Modesto\, CA 95354
UID:e.2695.1241
SEQUENCE:3
DTSTAMP:20260419T230156Z
URL:https://business.modchamber.org/events/details/an-evening-with-rob-lowe-10-22-2015-1241
END:VEVENT

END:VCALENDAR
