BEGIN:VCALENDAR
VERSION:2.0
PRODID:-//ChamberMaster//Event Calendar 2.0//EN
METHOD:PUBLISH
X-PUBLISHED-TTL:P3D
REFRESH-INTERVAL:P3D
CALSCALE:GREGORIAN
BEGIN:VEVENT
DTSTART:20151122T040000Z
DTEND:20151121T080000Z
X-MICROSOFT-CDO-ALLDAYEVENT:FALSE
SUMMARY:AN EVENING WITH PAUL ANKA
DESCRIPTION:People still talk about his spell-binding performance to open the 2009-2010 season at the Gallo Center. From his dramatic entrance to his charming interaction with the audience to the stirring finale\, Paul Anka gave adoring fans everything he had and left them wanting more. And now\, six long years later\, this remarkable entertainer returns to again perform his hits—“Diana\,” “Lonely Boy\,” “You're Having My Baby”—along with those he famously wrote for others\, “She's a Lady” (Tom Jones)\, “My Way” (Frank Sinatra) and more.\nContact :	Gallo Center\nPhone :	209-338-2100\nEmail :	\nWeb Site :	galloarts.org
X-ALT-DESC;FMTTYPE=text/html:People still talk about his spell-binding performance to open the 2009-2010 season at the Gallo Center. From his dramatic entrance to his charming interaction with the audience to the stirring finale\, Paul Anka gave adoring fans everything he had and left them wanting more. And now\, six long years later\, this remarkable entertainer returns to again perform his hits—“Diana\,” “Lonely Boy\,” “You're Having My Baby”—along with those he famously wrote for others\, “She's a Lady” (Tom Jones)\, “My Way” (Frank Sinatra) and more.\nContact :	Gallo Center\nPhone :	209-338-2100\nEmail :	\nWeb Site :	galloarts.org
LOCATION:Gallo Center 1000 I St Modesto\, CA 95354
UID:e.2695.1272
SEQUENCE:3
DTSTAMP:20260419T214610Z
URL:https://business.modchamber.org/events/details/an-evening-with-paul-anka-11-21-2015-1272
END:VEVENT

END:VCALENDAR
