BEGIN:VCALENDAR
VERSION:2.0
PRODID:-//ChamberMaster//Event Calendar 2.0//EN
METHOD:PUBLISH
X-PUBLISHED-TTL:P3D
REFRESH-INTERVAL:P3D
CALSCALE:GREGORIAN
BEGIN:VEVENT
DTSTART:20160909T010000Z
DTEND:20160909T040000Z
X-MICROSOFT-CDO-ALLDAYEVENT:FALSE
SUMMARY:An Evening Under the Stars - Fundraiser Gala
DESCRIPTION:Please join us for our annual fundraiser gala\, Evening Under the Stars\, at Gallo Center for the Arts! Enjoy a fun evening of wine tasting\, delicious food pairings\, raffle & auction\, and performances by the Juline Regional Youth Ballet\, and our outreach performing group\, the Juline Juniors! Proceeds benefit the kids in our local schools & community. Tickets $60 per person.\n		\n		\n			Contact : \n			Juline School of Dance\n		\n		\n			Phone : \n			(209) 529-2264\n		\n		\n			Email : \n			dance@juline-foundation.org\n		\n		\n			Web Site : \n			www.julineschoolofdance.com
X-ALT-DESC;FMTTYPE=text/html:<table border="0" cellpadding="0" cellspacing="2" width="500">\n	<tbody>\n		<tr>\n			<td>Please join us for our annual fundraiser gala\, Evening Under the Stars\, at Gallo Center for the Arts! Enjoy a fun evening of wine tasting\, delicious food pairings\, raffle &amp\; auction\, and performances by the Juline Regional Youth Ballet\, and our outreach performing group\, the Juline Juniors! Proceeds benefit the kids in our local schools &amp\; community. Tickets $60 per person.</td>\n		</tr>\n		<tr>\n			<td align="left" class="blue" valign="top"><strong>Contact : </strong></td>\n			<td>Juline School of Dance</td>\n		</tr>\n		<tr>\n			<td align="left" class="blue" valign="top"><strong>Phone : </strong></td>\n			<td>(209) 529-2264</td>\n		</tr>\n		<tr>\n			<td align="left" class="blue" valign="top"><strong>Email : </strong></td>\n			<td><a href="mailto:dance@juline-foundation.org">dance@juline-foundation.org</a></td>\n		</tr>\n		<tr>\n			<td align="left" class="blue" valign="top"><strong>Web Site : </strong></td>\n			<td><a href="http://www.julineschoolofdance.com/" target="_blank">www.julineschoolofdance.com</a></td>\n		</tr>\n		<tr>\n			<td align="left" class="blue" colspan="2" valign="top">\n			<p>&nbsp\;</p>\n			</td>\n		</tr>\n	</tbody>\n</table>\n
LOCATION:Gallo Center 1000 I Street Modesto\, Ca 95354
UID:e.2695.2306
SEQUENCE:3
DTSTAMP:20260421T083928Z
URL:https://business.modchamber.org/events/details/an-evening-under-the-stars-fundraiser-gala-2306
END:VEVENT

END:VCALENDAR
