BEGIN:VCALENDAR
VERSION:2.0
PRODID:-//ChamberMaster//Event Calendar 2.0//EN
METHOD:PUBLISH
X-PUBLISHED-TTL:P3D
REFRESH-INTERVAL:P3D
CALSCALE:GREGORIAN
BEGIN:VEVENT
DTSTART:20150315T020000Z
DTEND:20150314T070000Z
X-MICROSOFT-CDO-ALLDAYEVENT:FALSE
SUMMARY:An Evening Dance
DESCRIPTION:Juline Regional Youth Ballet (JRYB) is enjoying its fifth anniversary and third year of Full Company status with RDA/P. JRYB is proud to include some of the most talented dancers from California’s central valley\, and currently includes 16 senior members\, 6 apprentices\, and 8 junior members. JRYB dancers range in age from 12 to 18 years old. \n\nJRYB operates as part of the nonprofit organization Juline Foundation for Children (JFC). JFC’s mission is to provide "all children who have the desire to perform and be self expressive\, the opportunity to do so through dance." JFC also operates an Outreach Program which provides more than 60 dance classes a week to local public schools in Stanislaus County. Several JRYB company members regularly aid in mentoring and teaching dance to students in local public schools through the outreach program. JRYB dancers are also actively involved in other public service events and performances throughout the season\, including: “Holiday Follies” performed at the Mainstage Theater on the campus of CSU Stanislaus\, and "Valley’s Got Talent" at Gallo Center for the Arts\, as well as multiple student and outreach performances. \n\nIn 2014\, Juline School of Dance\, the official school of JRYB\, moved into its brand-new state of the art building in its hometown of Modesto\, CA. Finally\, JRYB is celebrating with Juline School of Dance on forty years of dance training in Modesto.\nContact :	Gallo Center\nPhone :	209-338-2100\nEmail :	\nWeb Site :	galloarts.org
X-ALT-DESC;FMTTYPE=text/html:\n Juline Regional Youth Ballet (JRYB) is enjoying its fifth anniversary and third year of Full Company status with RDA/P. JRYB is proud to include some of the most talented dancers from California’s central valley\, and currently includes 16 senior members\, 6 apprentices\, and 8 junior members. JRYB dancers range in age from 12 to 18 years old. \n\nJRYB operates as part of the nonprofit organization Juline Foundation for Children (JFC). JFC’s mission is to provide "all children who have the desire to perform and be self expressive\, the opportunity to do so through dance." JFC also operates an Outreach Program which provides more than 60 dance classes a week to local public schools in Stanislaus County. Several JRYB company members regularly aid in mentoring and teaching dance to students in local public schools through the outreach program. JRYB dancers are also actively involved in other public service events and performances throughout the season\, including: “Holiday Follies” performed at the Mainstage Theater on the campus of CSU Stanislaus\, and "Valley’s Got Talent" at Gallo Center for the Arts\, as well as multiple student and outreach performances. \n\nIn 2014\, Juline School of Dance\, the official school of JRYB\, moved into its brand-new state of the art building in its hometown of Modesto\, CA. Finally\, JRYB is celebrating with Juline School of Dance on forty years of dance training in Modesto.\nContact :	Gallo Center\nPhone :	209-338-2100\nEmail :	\nWeb Site :	galloarts.org
LOCATION:Gallo Center 1000 I Street Modesto\, CA 95354
UID:e.2695.796
SEQUENCE:3
DTSTAMP:20260420T073626Z
URL:https://business.modchamber.org/events/details/an-evening-dance-03-14-2015-796
END:VEVENT

END:VCALENDAR
