BEGIN:VCALENDAR
VERSION:2.0
PRODID:-//ChamberMaster//Event Calendar 2.0//EN
METHOD:PUBLISH
X-PUBLISHED-TTL:P3D
REFRESH-INTERVAL:P3D
CALSCALE:GREGORIAN
BEGIN:VEVENT
DTSTART:20150508T170000Z
DTEND:20150508T210000Z
X-MICROSOFT-CDO-ALLDAYEVENT:FALSE
SUMMARY:American Heart Association Go Red for Women 2015
DESCRIPTION:Join in for the American Heart Association's GO RED FOR WOMEN 2015. Break the barrier against heart disease and stroke. \n\nPresented by Gallo Family Vineyards.\n\nFor more information visit Facebook.com/AHAstocktonmodesto
X-ALT-DESC;FMTTYPE=text/html:	Join in for the American Heart Association's GO RED FOR WOMEN 2015. Break the barrier against heart disease and stroke. \n\nPresented by Gallo Family Vineyards.\n\nFor more information visit Facebook.com/AHAstocktonmodesto
LOCATION:Doubletree Hotel 1150 9th ST Modesto\, CA 95354
UID:e.2695.923
SEQUENCE:3
DTSTAMP:20260420T045809Z
URL:https://business.modchamber.org/events/details/american-heart-association-go-red-for-women-2015-05-08-2015-923
END:VEVENT

END:VCALENDAR
