BEGIN:VCALENDAR
VERSION:2.0
PRODID:-//ChamberMaster//Event Calendar 2.0//EN
METHOD:PUBLISH
X-PUBLISHED-TTL:P3D
REFRESH-INTERVAL:P3D
CALSCALE:GREGORIAN
BEGIN:VEVENT
DTSTART:20150613T160000Z
DTEND:20150614T070000Z
X-MICROSOFT-CDO-ALLDAYEVENT:FALSE
SUMMARY:American Graffiti Car Show and Festival
DESCRIPTION:**NEW LOCATION**\n\nThis annual event is presented by the North Modesto Kiwanis. Friday night\, June 12th will once again feature the classic car parade downtown at 7:00pm. The car show and festival is Saturday June 13 from 9:00am to 5:00pm & Sunday June 14 from 9:00am to 3:00pm. Check out the classic cars\, stroll through hundreds food craft and specialty booths. Live music throughout the festival each day. \n\nAll proceeds go to local charities.\nContact :	North Modesto Kiwanis\nPhone :	1-888-746-9763\nEmail :	\nWeb Site :	www.americangraffitifestival.com
X-ALT-DESC;FMTTYPE=text/html:	**NEW LOCATION**\n\nThis annual event is presented by the North Modesto Kiwanis. Friday night\, June 12th will once again feature the classic car parade downtown at 7:00pm. The car show and festival is Saturday June 13 from 9:00am to 5:00pm & Sunday June 14 from 9:00am to 3:00pm. Check out the classic cars\, stroll through hundreds food craft and specialty booths. Live music throughout the festival each day. \n\nAll proceeds go to local charities.\nContact :	North Modesto Kiwanis\nPhone :	1-888-746-9763\nEmail :	\nWeb Site :	www.americangraffitifestival.com\n
LOCATION:Modesto Municipal Golf Coarse 400 Toulumne Boulevard Modesto\, CA 95351
UID:e.2695.995
SEQUENCE:3
DTSTAMP:20260420T032244Z
URL:https://business.modchamber.org/events/details/american-graffiti-car-show-and-festival-06-13-2015-995
END:VEVENT

END:VCALENDAR
