BEGIN:VCALENDAR
VERSION:2.0
PRODID:-//ChamberMaster//Event Calendar 2.0//EN
METHOD:PUBLISH
X-PUBLISHED-TTL:P3D
REFRESH-INTERVAL:P3D
CALSCALE:GREGORIAN
BEGIN:VEVENT
DTSTART:20260113T200000Z
DTEND:20260113T220000Z
X-MICROSOFT-CDO-ALLDAYEVENT:FALSE
SUMMARY:American Family Care Urgent Care Ribbon Cutting
DESCRIPTION:Dear Chamber Members and Community Partners\,\n\nYou're invited to join us for a special Ribbon Cutting & Grand Opening Celebration welcoming American Family Care Urgent Care\, as part of our growing Chamber community! \n\nWe are delighted to celebrate their commitment to providing compassionate\, high-quality healthcare for families in our community. Come meet the dedicated medical team\, tour their modern facility\, and learn about the wide range of urgent care services designed to keep you and your loved ones healthy and cared for   close to home.\n\nDate: Tuesday\, January 13th\, 2025\n\nTime: 12:00 PM   2:00 PM\n\nLocation: 2001 McHenry Ave\, Suite L\, Modesto\, CA 95350\n\nCertificate Inscription: "American Family Care Urgent Care"\n\nAbout American Family Care Urgent Care:\n\nAmerican Family Care Urgent Care is a patient-centered medical practice offering prompt\, professional care for non-emergency illnesses and injuries. Their mission is to deliver accessible\, affordable\, and compassionate healthcare with a personal touch\, because every family deserves exceptional care when it matters most.\n\nWe invite you to be part of this exciting milestone and show your support for a business dedicated to improving community health and wellness.\n\nKindly RSVP to let us know you'll be joining this special celebration.\n\nWe look forward to seeing you and celebrating the grand opening of American Family Care Urgent Care!
X-ALT-DESC;FMTTYPE=text/html:<div style="margin-top: 1em\; margin-bottom: 1em\; font-family: Aptos\, Aptos_EmbeddedFont\, Aptos_MSFontService\, Calibri\, Helvetica\, sans-serif\; font-size: 11pt\;"><b>Dear Chamber Members and Community Partners</b>\,</div>\n\n<div style="margin-top: 1em\; margin-bottom: 1em\; font-family: Aptos\, Aptos_EmbeddedFont\, Aptos_MSFontService\, Calibri\, Helvetica\, sans-serif\; font-size: 11pt\;">You&rsquo\;re invited to join us for a special<b style="font-size: 11pt\;">&nbsp\;Ribbon Cutting &amp\; Grand Opening Celebration </b><span style="font-size: 11pt\;">welcoming </span><b style="font-size: 11pt\;">American Family Care Urgent Care</b><span style="font-size: 11pt\;">\, as part of our growing Chamber community!&nbsp\;</span></div>\n\n<div style="margin-top: 1em\; margin-bottom: 1em\; font-family: Aptos\, Aptos_EmbeddedFont\, Aptos_MSFontService\, Calibri\, Helvetica\, sans-serif\; font-size: 11pt\;">We are delighted to celebrate their commitment to providing compassionate\, high-quality healthcare for families in our community. Come meet the dedicated medical team\, tour their modern facility\, and learn about the wide range of urgent care services designed to keep you and your loved ones healthy and cared for &mdash\; close to home.</div>\n\n<div style="margin-top: 1em\; margin-bottom: 1em\; font-family: Aptos\, Aptos_EmbeddedFont\, Aptos_MSFontService\, Calibri\, Helvetica\, sans-serif\; font-size: 11pt\;"><b>Date</b>: Tuesday\, January 13th\, 2025<br />\n<b>Time</b>: 12:00 PM &ndash\; 2:00 PM<br />\n<b>Location</b>: 2001 McHenry Ave\, Suite L\, Modesto\, CA 95350<br />\n<b>Certificate Inscription</b>: <i>&ldquo\;American Family Care Urgent Care&rdquo\;</i></div>\n\n<div style="margin-top: 1em\; margin-bottom: 1em\; font-family: Aptos\, Aptos_EmbeddedFont\, Aptos_MSFontService\, Calibri\, Helvetica\, sans-serif\; font-size: 11pt\;"><b>About American Family Care Urgent Care</b>:<br />\nAmerican Family Care Urgent Care is a patient-centered medical practice offering prompt\, professional care for non-emergency illnesses and injuries. Their mission is to deliver accessible\, affordable\, and compassionate healthcare with a personal touch\, because every family deserves exceptional care when it matters most.</div>\n\n<div style="margin-top: 1em\; margin-bottom: 1em\; font-family: Aptos\, Aptos_EmbeddedFont\, Aptos_MSFontService\, Calibri\, Helvetica\, sans-serif\; font-size: 11pt\;">We invite you to be part of this exciting milestone and show your support for a business dedicated to improving community health and wellness.</div>\n\n<div style="margin-top: 1em\; margin-bottom: 1em\; font-family: Aptos\, Aptos_EmbeddedFont\, Aptos_MSFontService\, Calibri\, Helvetica\, sans-serif\; font-size: 11pt\;">Kindly RSVP&nbsp\;to let us know you&rsquo\;ll be joining this special celebration.</div>\n\n<div style="margin-top: 1em\; margin-bottom: 1em\; font-family: Aptos\, Aptos_EmbeddedFont\, Aptos_MSFontService\, Calibri\, Helvetica\, sans-serif\; font-size: 11pt\;">We look forward to seeing you and celebrating the <b>grand opening </b>of <b>American Family Care Urgent Care!</b></div>\n
LOCATION:Location: 2001 McHenry Ave\, Suite L\, Modesto\, CA 95350
UID:e.2695.12988
SEQUENCE:3
DTSTAMP:20260424T174228Z
URL:https://business.modchamber.org/events/details/american-family-care-urgent-care-ribbon-cutting-12988
END:VEVENT

END:VCALENDAR
