BEGIN:VCALENDAR
VERSION:2.0
PRODID:-//ChamberMaster//Event Calendar 2.0//EN
METHOD:PUBLISH
X-PUBLISHED-TTL:P3D
REFRESH-INTERVAL:P3D
CALSCALE:GREGORIAN
BEGIN:VEVENT
DTSTART:20160508T023000Z
DTEND:20160507T070000Z
X-MICROSOFT-CDO-ALLDAYEVENT:FALSE
SUMMARY:AMELIA ROMANO and STRANGE BIRD Live
DESCRIPTION:A freelance electric and acoustic lever harpist and singer/songwriter from the SF Bay Area\, as well as the founder of dynamic trio StringQuake (a crowd favorite of the 2015 Modesto Unplugged concert series) Amelia Romanoâ€™s music fuses Latin\, jazz\, folk and world music.\n\nClassically trained vocalist and sitar player Liesel Haldane enjoys crossing the boundaries between folk\, world\, and digital music production. Her roots are in old time music\, folk from the 60's\, and psychedelic rock from the 70â€™s. Strange Bird employs electronic looping to augment its vibrant sounds.\n\n$15 general admission / kids 12 and under free\nContact : 	Modesto Unplugged\nPhone : 	209-543-5306\nEmail : 	\nWeb Site : 	www.modestounplugged.com
X-ALT-DESC;FMTTYPE=text/html:A freelance electric and acoustic lever harpist and singer/songwriter from the SF Bay Area\, as well as the founder of dynamic trio StringQuake (a crowd favorite of the 2015 Modesto Unplugged concert series) Amelia Romanoâ€™s music fuses Latin\, jazz\, folk and world music.\n\nClassically trained vocalist and sitar player Liesel Haldane enjoys crossing the boundaries between folk\, world\, and digital music production. Her roots are in old time music\, folk from the 60's\, and psychedelic rock from the 70â€™s. Strange Bird employs electronic looping to augment its vibrant sounds.\n\n$15 general admission / kids 12 and under free\nContact : 	Modesto Unplugged\nPhone : 	209-543-5306\nEmail : 	\nWeb Site : 	www.modestounplugged.com
LOCATION:Gottschalk Music Center 1502 E Street Modesto\, CA 95354
UID:e.2695.1637
SEQUENCE:3
DTSTAMP:20260419T125049Z
URL:https://business.modchamber.org/events/details/amelia-romano-and-strange-bird-live-05-07-2016-1637
END:VEVENT

END:VCALENDAR
