BEGIN:VCALENDAR
VERSION:2.0
PRODID:-//ChamberMaster//Event Calendar 2.0//EN
METHOD:PUBLISH
X-PUBLISHED-TTL:P3D
REFRESH-INTERVAL:P3D
CALSCALE:GREGORIAN
BEGIN:VEVENT
DTSTART:20150726T220000Z
DTEND:20150726T070000Z
X-MICROSOFT-CDO-ALLDAYEVENT:FALSE
SUMMARY:Alex Ramon #NewMagic
DESCRIPTION:Alex Ramon #NewMagic\, is a family friendly magic and illusion show with a new style and a new flair! Be a part of the magic and witness wonders that bring smiles and laughter to everyone. Don’t miss your chance to see this illusion show on tour with only one performance in Modesto! Alex Ramon has mesmerized millions around the world. His show was named the #1 attraction in Lake Tahoe for over 2 years\, come and see why!
X-ALT-DESC;FMTTYPE=text/html:Alex Ramon #NewMagic\, is a family friendly magic and illusion show with a new style and a new flair! Be a part of the magic and witness wonders that bring smiles and laughter to everyone. Don’t miss your chance to see this illusion show on tour with only one performance in Modesto! Alex Ramon has mesmerized millions around the world. His show was named the #1 attraction in Lake Tahoe for over 2 years\, come and see why!
LOCATION:Gallo Center 1000 I St Modesto\, CA 95354
UID:e.2695.1124
SEQUENCE:3
DTSTAMP:20260420T015818Z
URL:https://business.modchamber.org/events/details/alex-ramon-newmagic-07-26-2015-1124
END:VEVENT

END:VCALENDAR
