BEGIN:VCALENDAR
VERSION:2.0
PRODID:-//ChamberMaster//Event Calendar 2.0//EN
METHOD:PUBLISH
X-PUBLISHED-TTL:P3D
REFRESH-INTERVAL:P3D
CALSCALE:GREGORIAN
BEGIN:VEVENT
DTSTART:20160330T023000Z
DTEND:20160329T070000Z
X-MICROSOFT-CDO-ALLDAYEVENT:FALSE
SUMMARY:Album & Graphic Novel Release Show
DESCRIPTION:Join Nathan Ignacio for the release of his first ever solo CD and Graphic Novel "A Step Behind"\, taking place on March 29th in the quaint and rustic setting of the Prospect Theater in Modesto CA. This epic and intimate evening begins at 8PM with doors at 7:30 and has an exciting line up of Guests Performers and Accompaniments. This event welcomes all ages with available food\, drinks and spirits (21+). Tickets are for purchase $10 in advance and $15 at the door.\n\nFolk\, Blues & Soul Music\n\nContact : 	Prospect Theater\nPhone : 	209-549-9341\nEmail : 	\nWeb Site :
X-ALT-DESC;FMTTYPE=text/html:Join Nathan Ignacio for the release of his first ever solo CD and Graphic Novel "A Step Behind"\, taking place on March 29th in the quaint and rustic setting of the Prospect Theater in Modesto CA. This epic and intimate evening begins at 8PM with doors at 7:30 and has an exciting line up of Guests Performers and Accompaniments. This event welcomes all ages with available food\, drinks and spirits (21+). Tickets are for purchase $10 in advance and $15 at the door.\n\nFolk\, Blues & Soul Music\n\nContact : 	Prospect Theater\nPhone : 	209-549-9341\nEmail : 	\nWeb Site :
LOCATION:Prospect Theater 1214 K Street Modesto\, CA 95354
UID:e.2695.1590
SEQUENCE:3
DTSTAMP:20260419T164727Z
URL:https://business.modchamber.org/events/details/album-graphic-novel-release-show-03-29-2016-1590
END:VEVENT

END:VCALENDAR
