BEGIN:VCALENDAR
VERSION:2.0
PRODID:-//ChamberMaster//Event Calendar 2.0//EN
METHOD:PUBLISH
X-PUBLISHED-TTL:P3D
REFRESH-INTERVAL:P3D
CALSCALE:GREGORIAN
BEGIN:VEVENT
DTSTART:20141126T010000Z
DTEND:20141126T040000Z
X-MICROSOFT-CDO-ALLDAYEVENT:FALSE
SUMMARY:AHA BLS Class in Modesto
DESCRIPTION:If you are a healthcare provider or a medical student you will need to take the BLS CPR class everytwo years.\n\nWe provide a fun and stress free CPR class\, and you get all the updates from the American Heart Association.
X-ALT-DESC;FMTTYPE=text/html:If you are a healthcare provider or a medical student you will need to take the BLS CPR class everytwo years.\n\nWe provide a fun and stress free CPR class\, and you get all the updates from the American Heart Association. \n\n
LOCATION:Manteca CPR Classes 620 East Yosemite ave. Manteca\, CA 95336
UID:e.2695.604
SEQUENCE:3
DTSTAMP:20260422T153836Z
URL:https://business.modchamber.org/events/details/aha-bls-class-in-modesto-11-25-2014-604
END:VEVENT

END:VCALENDAR
