BEGIN:VCALENDAR
VERSION:2.0
PRODID:-//ChamberMaster//Event Calendar 2.0//EN
METHOD:PUBLISH
X-PUBLISHED-TTL:P3D
REFRESH-INTERVAL:P3D
CALSCALE:GREGORIAN
BEGIN:VEVENT
DTSTART:20160415T183000Z
DTEND:20160415T200000Z
X-MICROSOFT-CDO-ALLDAYEVENT:FALSE
SUMMARY:Ag Aware Luncheon 2016
DESCRIPTION:Join 500 of Modesto’s prominent agricultural and community leaders to raise funds for Modesto’s Future Farmers of America programs.   A long-standing event guaranteed to bring together some of the most influential companies in the agriculture industry to discuss economic trends — both locally and globally — that affect the San Joaquin Valley.  Proceeds from the Ag Aware Luncheon benefit Modesto area  FFA students who will be the next generation of leaders in the area’s most prominent industry.--- SAVE THE DATE --
X-ALT-DESC;FMTTYPE=text/html:<P><SPAN lang=en-US style="COLOR: black\; FONT-FAMILY: 'Franklin Gothic Book'\; mso-default-font-family: 'Franklin Gothic Book'\; mso-ascii-font-family: 'Franklin Gothic Book'\; mso-latin-font-family: 'Franklin Gothic Book'\; mso-greek-font-family: 'Franklin Gothic Book'\; mso-cyrillic-font-family: 'Franklin Gothic Book'\; mso-latinext-font-family: 'Franklin Gothic Book'\; mso-style-textfill-type: solid\; mso-style-textfill-fill-color: black\; mso-style-textfill-fill-alpha: 100%\; language: en-US\; mso-ansi-language: en-US\; mso-bidi-language: ar-SA\; mso-ligatures: none">Join 500 of Modesto’s prominent agricultural and community leaders to raise funds for Modesto’s Future Farmers of America programs.<SPAN style="mso-spacerun: yes">&nbsp\;&nbsp\; </SPAN>A long-standing event guaranteed to bring together some of the most influential companies in the agriculture industry to discuss economic trends — both locally and globally — that affect the San Joaquin Valley.<SPAN style="mso-spacerun: yes">&nbsp\; </SPAN>Proceeds from the Ag Aware Luncheon benefit Modesto area &nbsp\;FFA students who will be the next generation of leaders in the area’s most prominent industry.</SPAN></P><P><SPAN lang=en-US style="COLOR: black\; FONT-FAMILY: 'Franklin Gothic Book'\; mso-default-font-family: 'Franklin Gothic Book'\; mso-ascii-font-family: 'Franklin Gothic Book'\; mso-latin-font-family: 'Franklin Gothic Book'\; mso-greek-font-family: 'Franklin Gothic Book'\; mso-cyrillic-font-family: 'Franklin Gothic Book'\; mso-latinext-font-family: 'Franklin Gothic Book'\; mso-style-textfill-type: solid\; mso-style-textfill-fill-color: black\; mso-style-textfill-fill-alpha: 100%\; language: en-US\; mso-ansi-language: en-US\; mso-bidi-language: ar-SA\; mso-ligatures: none"><FONT color=#ff0000>--- SAVE THE DATE -- </FONT></SPAN></P><P class=MsoNormal style="mso-pagination: none"><SPAN lang=en-US style="language: en-US\; mso-ligatures: none">&nbsp\;<?xml:namespace prefix = o ns = "urn:schemas-microsoft-com:office:office" /><o:p></o:p></SPAN></P>
LOCATION:MJC ACE Ag Pavillion
UID:e.2695.1434
SEQUENCE:3
DTSTAMP:20260419T152504Z
URL:https://business.modchamber.org/events/details/ag-aware-luncheon-2016-04-15-2016-1434
END:VEVENT

END:VCALENDAR
