BEGIN:VCALENDAR
VERSION:2.0
PRODID:-//ChamberMaster//Event Calendar 2.0//EN
METHOD:PUBLISH
X-PUBLISHED-TTL:P3D
REFRESH-INTERVAL:P3D
CALSCALE:GREGORIAN
BEGIN:VEVENT
DTSTART:20140410T183000Z
DTEND:20140410T203000Z
X-MICROSOFT-CDO-ALLDAYEVENT:FALSE
SUMMARY:Ag Aware Luncheon 2014
DESCRIPTION:In its 19th year\, the Modesto Chamber of Commerce Ag Aware Luncheon has raised over $140\,000 for the Modesto City Schools FFA Program. These funds are used to assist students with the purchase of their project animals\, purchase feed and equipment and send delegates to the annual FFA National Convention.\n Additionally the Ag Aware Committee has contributed to the Camp Sylvester Building Fund and the California FFA Center.
X-ALT-DESC;FMTTYPE=text/html:In its 19th year\, the Modesto Chamber of Commerce Ag Aware Luncheon has raised over $140\,000 for the Modesto City Schools FFA Program. These funds are used to assist students with the purchase of their project animals\, purchase feed and equipment and send delegates to the annual FFA National Convention.\n Additionally the Ag Aware Committee has contributed to the Camp Sylvester Building Fund and the California FFA Center.
LOCATION:SOS Club 819 Sunset Avenue Modesto\, CA 95351
UID:e.2695.380
SEQUENCE:3
DTSTAMP:20260423T014027Z
URL:https://business.modchamber.org/events/details/ag-aware-luncheon-2014-04-10-2014-380
END:VEVENT

END:VCALENDAR
