BEGIN:VCALENDAR
VERSION:2.0
PRODID:-//ChamberMaster//Event Calendar 2.0//EN
METHOD:PUBLISH
X-PUBLISHED-TTL:P3D
REFRESH-INTERVAL:P3D
CALSCALE:GREGORIAN
BEGIN:VEVENT
DTSTART:20150416T183000Z
DTEND:20150416T203000Z
X-MICROSOFT-CDO-ALLDAYEVENT:FALSE
SUMMARY:Ag Aware Luncheon
DESCRIPTION:In its 19th year\, the Modesto Chamber of Commerce Ag Aware Luncheon has raised over $140\,000 for the Modesto City Schools FFA Program. These funds are used to assist students with the purchase of their project animals\, purchase feed and equipment and send delegates to the annual FFA National Convention.\nAdditionally the Ag Aware Committee has contributed to the Camp Sylvester Building Fund and the California FFA Center.\n\nAttendance: 500\nTicket Price: $25\nContact : 	Modesto Chamber of Commerce\nPhone : 	209-577-5757\nEmail : 	\nWeb Site : 	www.modchamber.org
X-ALT-DESC;FMTTYPE=text/html:	In its 19th year\, the Modesto Chamber of Commerce Ag Aware Luncheon has raised over $140\,000 for the Modesto City Schools FFA Program. These funds are used to assist students with the purchase of their project animals\, purchase feed and equipment and send delegates to the annual FFA National Convention.\nAdditionally the Ag Aware Committee has contributed to the Camp Sylvester Building Fund and the California FFA Center.\n\nAttendance: 500\nTicket Price: $25\nContact : 	Modesto Chamber of Commerce\nPhone : 	209-577-5757\nEmail : 	\nWeb Site : 	www.modchamber.org
LOCATION:MJC\, Ace Ag Pavilion West Campus 2201 Blue Gum Ave Modesto\, CA 95358
UID:e.2695.870
SEQUENCE:3
DTSTAMP:20260420T062631Z
URL:https://business.modchamber.org/events/details/ag-aware-luncheon-04-16-2015-870
END:VEVENT

END:VCALENDAR
