BEGIN:VCALENDAR
VERSION:2.0
PRODID:-//ChamberMaster//Event Calendar 2.0//EN
METHOD:PUBLISH
X-PUBLISHED-TTL:P3D
REFRESH-INTERVAL:P3D
CALSCALE:GREGORIAN
BEGIN:VEVENT
DTSTART:20160422T010000Z
DTEND:20160421T070000Z
X-MICROSOFT-CDO-ALLDAYEVENT:FALSE
SUMMARY:Adelitas Way in Concert
DESCRIPTION:21 and over\nTickets: $15 - $20\n\nAdelitas Way is an American hard rock band from Las Vegas\, Nevada\, United States\, who were formed in 2006.\nContact : 	Fat Cat Music House & Lounge\nPhone : 	209-524-1400\nEmail : 	\nWeb Site : 	www.fatcatmodesto.com
X-ALT-DESC;FMTTYPE=text/html:	21 and over\nTickets: $15 - $20\n\nAdelitas Way is an American hard rock band from Las Vegas\, Nevada\, United States\, who were formed in 2006.\nContact : 	Fat Cat Music House & Lounge\nPhone : 	209-524-1400\nEmail : 	\nWeb Site : 	www.fatcatmodesto.com\n\n
LOCATION:Fat Cat Music House & Lounge 930 11th Street Modesto\, CA 95354
UID:e.2695.1624
SEQUENCE:3
DTSTAMP:20260419T141131Z
URL:https://business.modchamber.org/events/details/adelitas-way-in-concert-04-21-2016-1624
END:VEVENT

END:VCALENDAR
