BEGIN:VCALENDAR
VERSION:2.0
PRODID:-//ChamberMaster//Event Calendar 2.0//EN
METHOD:PUBLISH
X-PUBLISHED-TTL:P3D
REFRESH-INTERVAL:P3D
CALSCALE:GREGORIAN
BEGIN:VEVENT
DTSTART:20140523T000000Z
DTEND:20140523T010000Z
X-MICROSOFT-CDO-ALLDAYEVENT:FALSE
SUMMARY:ACLS Training in Manteca
DESCRIPTION:The ACLS eLearning class is taught in two parts. You will complete the first part online. And you will come to our classroom for the second part\, which is the testing.
X-ALT-DESC;FMTTYPE=text/html:The ACLS eLearning class is taught in two parts. You will complete the first part online. And you will come to our classroom for the second part\, which is the testing.
LOCATION:Manteca CPR Classes 620 East Yosemite Avenue Manteca\, CA 95336
UID:e.2695.469
SEQUENCE:3
DTSTAMP:20260423T013236Z
URL:https://business.modchamber.org/events/details/acls-training-in-manteca-05-22-2014-469
END:VEVENT

END:VCALENDAR
