BEGIN:VCALENDAR
VERSION:2.0
PRODID:-//ChamberMaster//Event Calendar 2.0//EN
METHOD:PUBLISH
X-PUBLISHED-TTL:P3D
REFRESH-INTERVAL:P3D
CALSCALE:GREGORIAN
BEGIN:VEVENT
DTSTART:20140904T000000Z
DTEND:20140904T010000Z
X-MICROSOFT-CDO-ALLDAYEVENT:FALSE
SUMMARY:ACLS Skills Testing Class in Manteca
DESCRIPTION:Looking to take the ACLS class but don't have the time to take the two days class? This ACLS eLearning class is easy and you can start and stop the eLearning course at your convenience.\n\nThe class is done in two parts. Online and in a classroom. The Online portion is about 6 hours long\, but you can stop\, save your information and go back. Then you take your skills testing class with us\, which itonly takes about 1 hour.
X-ALT-DESC;FMTTYPE=text/html:Looking to take the ACLS class but don't have the time to take the two days class? This ACLS eLearning class is easy and you can start and stop the eLearning course at your convenience.\n\nThe class is done in two parts. Online and in a classroom. The Online portion is about 6 hours long\, but you can stop\, save your information and go back. Then you take your skills testing class with us\, which itonly takes about 1 hour.
LOCATION:Manteca CPR Classes 620 East Yosemite ave. Manteca\, CA 95336
UID:e.2695.546
SEQUENCE:3
DTSTAMP:20260422T180438Z
URL:https://business.modchamber.org/events/details/acls-skills-testing-class-in-manteca-09-03-2014-546
END:VEVENT

END:VCALENDAR
