BEGIN:VCALENDAR
VERSION:2.0
PRODID:-//ChamberMaster//Event Calendar 2.0//EN
METHOD:PUBLISH
X-PUBLISHED-TTL:P3D
REFRESH-INTERVAL:P3D
CALSCALE:GREGORIAN
BEGIN:VEVENT
DTSTART:20150925T160000Z
DTEND:20150925T210000Z
X-MICROSOFT-CDO-ALLDAYEVENT:FALSE
SUMMARY:Ability Resource Fair & Assistive Tech. Expo
DESCRIPTION:Featuring:\n\nDemonstrations\nResource Booths\nAdaptive Devices\nWorkshops\nRaffles\nMicro-enterprises & more!\nContact :	Sandra Graham\nPhone :	209-477-6342\nEmail :	sandra@drail.org
X-ALT-DESC;FMTTYPE=text/html:	Featuring:\n\nDemonstrations\nResource Booths\nAdaptive Devices\nWorkshops\nRaffles\nMicro-enterprises & more!\nContact :	Sandra Graham\nPhone :	209-477-6342\nEmail :	sandra@drail.org
LOCATION:Howard Trainig Center 1424 Stonum Rd Modesto\, CA 95351
UID:e.2695.1151
SEQUENCE:3
DTSTAMP:20260419T230759Z
URL:https://business.modchamber.org/events/details/ability-resource-fair-assistive-tech-expo-09-25-2015-1151
END:VEVENT

END:VCALENDAR
