BEGIN:VCALENDAR
VERSION:2.0
PRODID:-//ChamberMaster//Event Calendar 2.0//EN
METHOD:PUBLISH
X-PUBLISHED-TTL:P3D
REFRESH-INTERVAL:P3D
CALSCALE:GREGORIAN
BEGIN:VEVENT
DTSTART:20160305T040000Z
DTEND:20160304T080000Z
X-MICROSOFT-CDO-ALLDAYEVENT:FALSE
SUMMARY:ABBA MANIA
DESCRIPTION:ABBA MANIA has been delighting audiences of all ages since its formation in 1999\, first conquering the United Kingdom and more recently touring in Demark\, Sweden\, Russia\, France\, Luxembourg\, the United States and South America. This concert celebrates the music and style of ABBA in a respectful and enjoyable way\, reviving special memories of when ABBA ruled the airwaves with such timeless hits as “Mamma Mia\,” “Voulez Vous\,” “Dancing Queen\,” “Winner Takes It All\,” “Super Trouper” and many more! The band was here in 2013 and the community caught the mania—selling out The Gallo Center!\nContact :	Gallo Center\nPhone :	209-338-2100\nEmail :	\nWeb Site :	galloarts.org
X-ALT-DESC;FMTTYPE=text/html:ABBA MANIA has been delighting audiences of all ages since its formation in 1999\, first conquering the United Kingdom and more recently touring in Demark\, Sweden\, Russia\, France\, Luxembourg\, the United States and South America. This concert celebrates the music and style of ABBA in a respectful and enjoyable way\, reviving special memories of when ABBA ruled the airwaves with such timeless hits as “Mamma Mia\,” “Voulez Vous\,” “Dancing Queen\,” “Winner Takes It All\,” “Super Trouper” and many more! The band was here in 2013 and the community caught the mania—selling out The Gallo Center!\nContact :	Gallo Center\nPhone :	209-338-2100\nEmail :	\nWeb Site :	galloarts.org
LOCATION:Gallo Center 1000 I Street Modesto\, CA 95354
UID:e.2695.660
SEQUENCE:3
DTSTAMP:20260419T163227Z
URL:https://business.modchamber.org/events/details/abba-mania-03-04-2016-660
END:VEVENT

END:VCALENDAR
