BEGIN:VCALENDAR
VERSION:2.0
PRODID:-//ChamberMaster//Event Calendar 2.0//EN
METHOD:PUBLISH
X-PUBLISHED-TTL:P3D
REFRESH-INTERVAL:P3D
CALSCALE:GREGORIAN
BEGIN:VEVENT
DTSTART:20151129T220000Z
DTEND:20151129T080000Z
X-MICROSOFT-CDO-ALLDAYEVENT:FALSE
SUMMARY:A VERY ELECTRIC CHRISTMAS
DESCRIPTION:Lightwire Theater and Corbian Visual Arts & Dance brought “A Very Electric Christmas” to the Center last season and by popular demand it's coming back! This is a captivating and magical tale of adventure\, friendship and love centered on a young bird named Max going home for the holidays. Performed in complete darkness with dazzling\, cutting-edge 'lightwire' technology\, moving sculpture and dance\, the show features Nutcracker soldiers with candy-canes\, naughty rats\, an electric Christmas tree surrounded by presents\, glow worms\, dancing flowers and other creatures that light up the stage—all set to timeless holiday music by Mariah Carey\, Nat King Cole\, Tchaikovsky\, and more.\nContact :	Gallo Center\nPhone :	209-338-2100\nEmail :	\nWeb Site :	galloarts.org
X-ALT-DESC;FMTTYPE=text/html:Lightwire Theater and Corbian Visual Arts & Dance brought “A Very Electric Christmas” to the Center last season and by popular demand it's coming back! This is a captivating and magical tale of adventure\, friendship and love centered on a young bird named Max going home for the holidays. Performed in complete darkness with dazzling\, cutting-edge 'lightwire' technology\, moving sculpture and dance\, the show features Nutcracker soldiers with candy-canes\, naughty rats\, an electric Christmas tree surrounded by presents\, glow worms\, dancing flowers and other creatures that light up the stage—all set to timeless holiday music by Mariah Carey\, Nat King Cole\, Tchaikovsky\, and more.\nContact :	Gallo Center\nPhone :	209-338-2100\nEmail :	\nWeb Site :	galloarts.org
LOCATION:Gallo Center 1000 I St Modesto\, CA 95354
UID:e.2695.1284
SEQUENCE:3
DTSTAMP:20260419T214634Z
URL:https://business.modchamber.org/events/details/a-very-electric-christmas-11-29-2015-1284
END:VEVENT

END:VCALENDAR
