BEGIN:VCALENDAR
VERSION:2.0
PRODID:-//ChamberMaster//Event Calendar 2.0//EN
METHOD:PUBLISH
X-PUBLISHED-TTL:P3D
REFRESH-INTERVAL:P3D
CALSCALE:GREGORIAN
BEGIN:VEVENT
DTSTART:20150517T030000Z
DTEND:20150516T070000Z
X-MICROSOFT-CDO-ALLDAYEVENT:FALSE
SUMMARY:A Sea Symphony
DESCRIPTION:Classics Series\n\nDavid Lockington\, conductor\nGuest Soprano\nGuest Baritone\nMSO Chorus\nDr. Daniel R. Afonso\, Jr.\, chorus director\nCSU Stanislaus Concert Chorale & Chamber Singers \nDr. Daniel R. Afonso\, Jr.\, chorus director\n\nProgram\n\nRalph Vaughn Williams · Symphony No. 1\, "A Sea Symphony"\n\nInspired by the poetry of Walt Whitman\, this choral symphony depicts the majesty and mystery of the sea. Not only is the piece descriptive of the sea and the daring explorers who chart its waters\, but also uses the sea as “a metaphor for a voyage into eternity”. Don’t miss an unforgettable evening with the Modesto Symphony Chorus and the MSO as they combine forces to deliver a monumental evening of choral music.\n\n* No intermission\nContact :	Gallo Center\nPhone :	209-338-2100\nEmail :	\nWeb Site :	galloarts.org
X-ALT-DESC;FMTTYPE=text/html:	Classics Series\n\nDavid Lockington\, conductor\nGuest Soprano\nGuest Baritone\nMSO Chorus\nDr. Daniel R. Afonso\, Jr.\, chorus director\nCSU Stanislaus Concert Chorale & Chamber Singers \nDr. Daniel R. Afonso\, Jr.\, chorus director\n\nProgram\n\nRalph Vaughn Williams · Symphony No. 1\, "A Sea Symphony"\n\nInspired by the poetry of Walt Whitman\, this choral symphony depicts the majesty and mystery of the sea. Not only is the piece descriptive of the sea and the daring explorers who chart its waters\, but also uses the sea as “a metaphor for a voyage into eternity”. Don’t miss an unforgettable evening with the Modesto Symphony Chorus and the MSO as they combine forces to deliver a monumental evening of choral music.\n\n* No intermission\nContact :	Gallo Center\nPhone :	209-338-2100\nEmail :	\nWeb Site :	galloarts.org
LOCATION:Gallo Center 1000 I St Modesto\, CA 95354
UID:e.2695.937
SEQUENCE:3
DTSTAMP:20260420T045322Z
URL:https://business.modchamber.org/events/details/a-sea-symphony-05-16-2015-937
END:VEVENT

END:VCALENDAR
